BEGIN:VCALENDAR
VERSION:2.0
PRODID:-//ChamberMaster//Event Calendar 2.0//EN
METHOD:PUBLISH
X-PUBLISHED-TTL:P1H
REFRESH-INTERVAL:P1H
CALSCALE:GREGORIAN
BEGIN:VTIMEZONE
TZID:America/New_York
BEGIN:DAYLIGHT
RRULE:FREQ=YEARLY;BYMONTH=3;BYDAY=2SU
DTSTART:20070101T000000
TZOFFSETFROM:-0500
TZOFFSETTO:-0400
TZNAME:Eastern Daylight Time
END:DAYLIGHT
BEGIN:STANDARD
RRULE:FREQ=YEARLY;BYMONTH=11;BYDAY=1SU
DTSTART:20070101T000000
TZOFFSETFROM:-0400
TZOFFSETTO:-0500
TZNAME:Eastern Standard Time
END:STANDARD
END:VTIMEZONE
BEGIN:VEVENT
DTSTART;TZID=America/New_York:20260508T120000
DTEND;TZID=America/New_York:20260508T130000
X-MICROSOFT-CDO-ALLDAYEVENT:FALSE
SUMMARY:The Crafthouse Charcuterie and Bar
DESCRIPTION:The Crafthouse Charcuterie and Bar is celebrating its first anniversary of business. Join us as we conduct a celebratory ribbon cutting on Friday\, May 8\, at noon.
X-ALT-DESC;FMTTYPE=text/html:The Crafthouse Charcuterie and Bar is celebrating its first anniversary of business. Join us as we conduct a celebratory ribbon cutting on Friday\, May 8\, at noon.
LOCATION:112 CHARLIE MEDLIN DR UNIT G SURF CITY NC 28445
UID:e.3343.1446716
SEQUENCE:3
DTSTAMP:20260421T104604Z
URL:https://business.topsailchamber.org/event-calendar/Details/the-crafthouse-charcuterie-and-bar-1713526?sourceTypeId=Hub
END:VEVENT
END:VCALENDAR
